BEGIN:VCALENDAR
VERSION:2.0
PRODID:-//PKL - ECPv6.0.2//NONSGML v1.0//EN
CALSCALE:GREGORIAN
METHOD:PUBLISH
X-ORIGINAL-URL:https://perpustakaankualalumpur.dbkl.gov.my/en/
X-WR-CALDESC:Events for PKL
REFRESH-INTERVAL;VALUE=DURATION:PT1H
X-Robots-Tag:noindex
X-PUBLISHED-TTL:PT1H
BEGIN:VTIMEZONE
TZID:Asia/Kuala_Lumpur
BEGIN:STANDARD
TZOFFSETFROM:+0800
TZOFFSETTO:+0800
TZNAME:+08
DTSTART:20260101T000000
END:STANDARD
END:VTIMEZONE
BEGIN:VEVENT
DTSTART;TZID=Asia/Kuala_Lumpur:20260401T100000
DTEND;TZID=Asia/Kuala_Lumpur:20260430T183000
DTSTAMP:20260423T180846
CREATED:20260413T084905Z
LAST-MODIFIED:20260413T091622Z
UID:8138-1775037600-1777573800@perpustakaankualalumpur.dbkl.gov.my
SUMMARY:CHILDREN'S BOOK EXHIBITION & READING ROOM IN CONJUNCTION WITH INTERNATIONAL CHILDREN'S BOOK DAY 2026
DESCRIPTION:International Children’s Book Day 2026 is a global celebration that aims to foster an interest in reading among children and raise awareness of the importance of books in their early development. \n  \nThe Kuala Lumpur Library has set up an exhibition booth themed around International Children’s Book Day located at the lobby level. Visitors are invited to capture memories at this booth. In addition\, visitors can also suggest book titles that they would like to read but are not yet available at the library through the exhibition space provided. \n  \nIn addition\, a special reading room featuring a collection of selected children’s books is also provided at the Children’s Library for visitors to read. \n  \nCome visit the Kuala Lumpur Library!
URL:https://perpustakaankualalumpur.dbkl.gov.my/en/event/childrens-book-exhibition-reading-room-in-conjunction-with-international-childrens-book-day-2026/
LOCATION:PERPUSTAKAAN KUALA LUMPUR\, No 1 Jalan Raja\, Kuala Lumpur\, 50050\, Malaysia
END:VEVENT
BEGIN:VEVENT
DTSTART;TZID=Asia/Kuala_Lumpur:20260410T100000
DTEND;TZID=Asia/Kuala_Lumpur:20260410T123000
DTSTAMP:20260423T180846
CREATED:20260413T024034Z
LAST-MODIFIED:20260413T073046Z
UID:8126-1775815200-1775824200@perpustakaankualalumpur.dbkl.gov.my
SUMMARY:READ AND GROW
DESCRIPTION:On 10 April 2026 (Friday)\, the Read and Grow Program was organized by the Kuala Lumpur Library. This program was held in conjunction with International Children’s Book Day 2026 with the theme “Plant stories and the world will bloom!”. This program aims to encourage reading interest and raise awareness of the importance of children’s books in their early development. \nThis program was held at Tadika Sang Kancil DBKL\, Intan Baiduri and was attended by children aged 4 to 5 years. Among the activities that were carried out included guides on proper book care\, creative crafts\, storytelling sessions\, interactive games and book donations for the Reading Encouragement Campaign. \n  \n \n  \n 
URL:https://perpustakaankualalumpur.dbkl.gov.my/en/event/read-and-grow/
LOCATION:RIANG RIA CUTI SEKOLAH
END:VEVENT
BEGIN:VEVENT
DTSTART;TZID=Asia/Kuala_Lumpur:20260423T100000
DTEND;TZID=Asia/Kuala_Lumpur:20260423T113000
DTSTAMP:20260423T180846
CREATED:20260423T083014Z
LAST-MODIFIED:20260423T083445Z
UID:8166-1776938400-1776943800@perpustakaankualalumpur.dbkl.gov.my
SUMMARY:JOM BACA BERSAMA 10 MINIT
DESCRIPTION:Spend 10 minutes. Build the future of the nation. \nIn conjunction with World Book and Copyright Day 2026\, Kuala Lumpur Library invites you all to join Jom Baca Bersama 10 Minutes 2026 — a simultaneous reading movement throughout Malaysia.\n✨ Special this year:\nThe ceremony will also witness the Launch of the Malaysia Reading Map Dashboard by YB Fadhlina Sidek\, Minister of Education Malaysia.\n📅 23 April 2026 (Thursday)\n⏰ 10.00 am\n📍 Kuala Lumpur Library\nLet's all join in enlivening this reading movement! \nWatch this program live on the Kuala Lumpur Library FB.
URL:https://perpustakaankualalumpur.dbkl.gov.my/en/event/jom-baca-bersama-10-minit/
LOCATION:PERPUSTAKAAN KUALA LUMPUR\, No 1 Jalan Raja\, Kuala Lumpur\, 50050\, Malaysia
END:VEVENT
END:VCALENDAR