BEGIN:VCALENDAR
VERSION:2.0
PRODID:-//PKL - ECPv6.0.2//NONSGML v1.0//EN
CALSCALE:GREGORIAN
METHOD:PUBLISH
X-ORIGINAL-URL:https://perpustakaankualalumpur.dbkl.gov.my
X-WR-CALDESC:Events for PKL
REFRESH-INTERVAL;VALUE=DURATION:PT1H
X-Robots-Tag:noindex
X-PUBLISHED-TTL:PT1H
BEGIN:VTIMEZONE
TZID:Asia/Kuala_Lumpur
BEGIN:STANDARD
TZOFFSETFROM:+0800
TZOFFSETTO:+0800
TZNAME:+08
DTSTART:20260101T000000
END:STANDARD
END:VTIMEZONE
BEGIN:VEVENT
DTSTART;TZID=Asia/Kuala_Lumpur:20260423T100000
DTEND;TZID=Asia/Kuala_Lumpur:20260423T113000
DTSTAMP:20260426T104226
CREATED:20260423T083014Z
LAST-MODIFIED:20260423T083014Z
UID:8160-1776938400-1776943800@perpustakaankualalumpur.dbkl.gov.my
SUMMARY:JOM BACA BERSAMA 10 MINIT
DESCRIPTION:Luangkan 10 minit. Bina masa depan bangsa.\nSempena Hari Buku dan Hak Cipta Sedunia 2026\, Perpustakaan Kuala Lumpur menjemput anda semua menyertai Jom Baca Bersama 10 Minit 2026 — satu gerakan membaca serentak di seluruh Malaysia.\n\n\n Istimewa tahun ini:\nMajlis akan turut menyaksikan Pelancaran Papan Pemuka Peta Membaca Malaysia oleh YB Fadhlina Sidek\, Menteri Pendidikan Malaysia.\n 23 April 2026 (Khamis)\n 10.00 pagi\n Perpustakaan Kuala Lumpur\n\n\nJom beramai-ramai memeriahkan gerakan membaca ini!\nSaksikan program ini secara langsung di FB Perpustakaan Kuala Lumpur.\n#JomBaca10Minit2026\n#MembacaMembinaBangsa\n#MalaysiaMembaca\n#PerpustakaanKL
URL:https://perpustakaankualalumpur.dbkl.gov.my/event/jom-baca-bersama-10-minit/
LOCATION:PERPUSTAKAAN KUALA LUMPUR\, No 1 Jalan Raja\, Kuala Lumpur\, 50050\, Malaysia
END:VEVENT
END:VCALENDAR